BEGIN:VCALENDAR
VERSION:2.0
PRODID:-//CASIE - ECPv6.10.1.1//NONSGML v1.0//EN
CALSCALE:GREGORIAN
METHOD:PUBLISH
X-ORIGINAL-URL:https://www.casieonline.org
X-WR-CALDESC:Events for CASIE
REFRESH-INTERVAL;VALUE=DURATION:PT1H
X-Robots-Tag:noindex
X-PUBLISHED-TTL:PT1H
BEGIN:VTIMEZONE
TZID:America/New_York
BEGIN:DAYLIGHT
TZOFFSETFROM:-0500
TZOFFSETTO:-0400
TZNAME:EDT
DTSTART:20240310T070000
END:DAYLIGHT
BEGIN:STANDARD
TZOFFSETFROM:-0400
TZOFFSETTO:-0500
TZNAME:EST
DTSTART:20241103T060000
END:STANDARD
END:VTIMEZONE
BEGIN:VEVENT
DTSTART;TZID=America/New_York:20240822T083000
DTEND;TZID=America/New_York:20240822T150000
DTSTAMP:20260423T043755
CREATED:20240621T162611Z
LAST-MODIFIED:20240621T162611Z
UID:10000052-1724315400-1724338800@www.casieonline.org
SUMMARY:GA MYP\, DP\, & CP IBCs Retreat Day @ CASIE
DESCRIPTION:Join us at CASIE’s office for free IB professional development! \nGather with fellow MYP\, DP\, & CP coordinators from all around Georgia. Plan\, wonder\, share\, and dream together with people who do your same hard job. \nStart off your school year with strong IB planning and motivation! We have designed each day to be full of learning and connections for our GA IB Coordinator friends. RSVP so we know you’re coming and can plan to feed you!
URL:https://www.casieonline.org/event/ga-myp-dp-cp-ibcs-retreat-day-casie/
LOCATION:CASIE\, 2635 Century Pkwy NE Suite 125\, Atlanta\, GA\, 30345\, United States
CATEGORIES:MYP, DP & CP Retreat
ATTACH;FMTTYPE=image/webp:https://www.casieonline.org/wp-content/uploads/2024/03/gl-4.webp
ORGANIZER;CN="CASIE":MAILTO:registration@casieonline.org
END:VEVENT
END:VCALENDAR