BEGIN:VCALENDAR
VERSION:2.0
PRODID:-//CASIE - ECPv6.10.1.1//NONSGML v1.0//EN
CALSCALE:GREGORIAN
METHOD:PUBLISH
X-WR-CALNAME:CASIE
X-ORIGINAL-URL:https://www.casieonline.org
X-WR-CALDESC:Events for CASIE
REFRESH-INTERVAL;VALUE=DURATION:PT1H
X-Robots-Tag:noindex
X-PUBLISHED-TTL:PT1H
BEGIN:VTIMEZONE
TZID:America/New_York
BEGIN:DAYLIGHT
TZOFFSETFROM:-0500
TZOFFSETTO:-0400
TZNAME:EDT
DTSTART:20260308T070000
END:DAYLIGHT
BEGIN:STANDARD
TZOFFSETFROM:-0400
TZOFFSETTO:-0500
TZNAME:EST
DTSTART:20261101T060000
END:STANDARD
END:VTIMEZONE
BEGIN:VEVENT
DTSTART;TZID=America/New_York:20260109T093000
DTEND;TZID=America/New_York:20260109T110000
DTSTAMP:20260420T054504
CREATED:20250602T162526Z
LAST-MODIFIED:20250610T125528Z
UID:10000288-1767951000-1767956400@www.casieonline.org
SUMMARY:IBC Leadership Academy session 4 (virtual) - 1/9/2026
DESCRIPTION:Power up your professional growth and network with other new and novice IBCs by engaging in a supportive learning community designed to prepare you for the challenges and successes of programme leadership. \nEngage in collaborative learning around: \n\n\nIBC Role Responsibilities \n\n\nPeer Leadership \n\n\nProgramme Growth and Development \n\n\nAuthorization and Evaluation \n\n\nParent Education and Engagement \n\n\nCoaching and Mentoring and More! \n\n\n\nReceive 25 hours of PD in a blended delivery module with both in-person and virtual sessions \nCost: $495
URL:https://www.casieonline.org/event/ibc-leadership-academy-session-4-virtual-2025-26/
LOCATION:CASIE\, 2635 Century Pkwy NE Suite 125\, Atlanta\, GA\, 30345\, United States
CATEGORIES:IBC Leadership Development Academy
ATTACH;FMTTYPE=image/png:https://www.casieonline.org/wp-content/uploads/2025/06/IB-Coordinator-Leadership-Development-Academy-Form-Headers.png
ORGANIZER;CN="CASIE":MAILTO:registration@casieonline.org
END:VEVENT
END:VCALENDAR